BEGIN:VCALENDAR
VERSION:2.0
PRODID:-//wp-events-plugin.com//5.99912//EN
TZID:Europe/Berlin
X-WR-TIMEZONE:Europe/Berlin
BEGIN:VEVENT
UID:0-683@bitz.albverein.eu
DTSTART;TZID=Europe/Berlin;VALUE=DATE:20260718
DTEND;TZID=Europe/Berlin;VALUE=DATE:20260720
DTSTAMP:20251130T191926Z
URL:https://bitz.albverein.eu/events/2-taegige-radtour-ueber-die-alb/
SUMMARY:2 tägige Radtour über die Alb mit Übernachtung
DESCRIPTION:Fam. Palfi
END:VEVENT
BEGIN:VTIMEZONE
TZID:Europe/Berlin
X-LIC-LOCATION:Europe/Berlin
BEGIN:DAYLIGHT
DTSTART:20260329T030000
TZOFFSETFROM:+0100
TZOFFSETTO:+0200
TZNAME:CEST
END:DAYLIGHT
END:VTIMEZONE
END:VCALENDAR