BEGIN:VCALENDAR
VERSION:2.0
PRODID:-//wp-events-plugin.com//5.99912//EN
TZID:Europe/Berlin
X-WR-TIMEZONE:Europe/Berlin
BEGIN:VEVENT
UID:0-675@bitz.albverein.eu
DTSTART;TZID=Europe/Berlin;VALUE=DATE:20260525
DTEND;TZID=Europe/Berlin;VALUE=DATE:20260526
DTSTAMP:20251106T171955Z
URL:https://bitz.albverein.eu/events/fam-besuch-keltenmuseum-heuneburg-her
 bertingen/
SUMMARY:Familie: Besuch Keltenmuseum Heuneburg / Herbertingen
DESCRIPTION:Fam. Miller
END:VEVENT
BEGIN:VTIMEZONE
TZID:Europe/Berlin
X-LIC-LOCATION:Europe/Berlin
BEGIN:DAYLIGHT
DTSTART:20260329T030000
TZOFFSETFROM:+0100
TZOFFSETTO:+0200
TZNAME:CEST
END:DAYLIGHT
END:VTIMEZONE
END:VCALENDAR