BEGIN:VCALENDAR
VERSION:2.0
PRODID:-//wp-events-plugin.com//5.99912//EN
TZID:Europe/Berlin
X-WR-TIMEZONE:Europe/Berlin
BEGIN:VEVENT
UID:0-668@bitz.albverein.eu
DTSTART;TZID=Europe/Berlin:20260419T103000
DTEND;TZID=Europe/Berlin:20260419T180000
DTSTAMP:20260407T053632Z
URL:https://bitz.albverein.eu/events/hayingen-glastal/
SUMMARY:HOCHGEHBERGE – Tour „hochgehschätzt“ Premiumwanderweg Haying
 en–Glastal
DESCRIPTION:\nTermin: Sonntag\, 19. AprilTreffpunkt: 10:30 Uhr am Rathaus B
 itz (zur Bildung von Fahrgemeinschaften)\nWir beginnen unsere Tour am Park
 platz der Wimsener Höhle. Zunächst führt uns der Weg auf einem Wiesenpf
 ad durch das Tal bis zum Schloss Ehrenfels. Dort queren wir eine historisc
 he Steinbrücke und folgen dem Hasenbach.\nNach der Überquerung zweier id
 yllischer Holzbrücken lädt eine Sitzbank am Wasser zu einer kurzen Rast 
 ein. Anschließend führt uns der historische Steinweg ins Schweiftal. Im 
 weiteren Verlauf des Trockentals begegnen wir der typischen Vegetation der
  Schwäbischen Alb.\nAuf der Anhöhe erreichen wir Hayingen mit der Mögli
 chkeit zu einem kurzen Abstecher in die historische Altstadt. Weiter geht 
 es durch Wiesen und Wälder\, vorbei am Wegkreuz Schmiedhalde\, bis zum Na
 turschutzgebiet Digelfeld. Von dieser eindrucksvollen Wacholderheide genie
 ßen wir einen weiten Blick ins Tal sowie auf den Runder Burren.\nAuf natu
 rnahen Wegen entlang blühender Magerwiesen gelangen wir zur Hayinger Brü
 cke mit Grillstelle und Pavillon. Von dort führt uns der Weg durch das ro
 mantische Glastal\, vorbei an der Bärenhöhle und der Glashöhle\, mit Bl
 ick auf den Lämmerfelsen mit Kreuz.\nAn der Hasenbachquelle verlassen wir
  das Glastal und folgen dem Weg oberhalb zurück zum Schloss Ehrenfels. Du
 rch eine alte Kastanienallee gelangen wir schließlich wieder zu unserem A
 usgangspunkt.\nTourdaten:\n\n\n 	Strecke: 9\,2 km\n 	Dauer: ca. 3 Stunden\
 n 	Höhenmeter: 133 m im Auf- und Abstieg\n\nZwischendurch ist eine kleine
  Pause vorgesehen. Eine Abschlusseinkehr ist geplant.\nNicht nur Mitgliede
 r des Albvereins\, auch Gäste sind herzlich willkommen!\nOrganisation: Ch
 ristine und Christian ButzTelefon: 0162 / 7977347
LOCATION:Rathaus Bitz\, Kirchstrasse\, Bitz\, 72475\, Deutschland
GEO:48.24305443244533;9.091229226983614
X-APPLE-STRUCTURED-LOCATION;VALUE=URI;X-ADDRESS=Kirchstrasse\, Bitz\, 72475
 \, Deutschland;X-APPLE-RADIUS=100;X-TITLE=Rathaus Bitz:geo:48.243054432445
 33,9.091229226983614
END:VEVENT
BEGIN:VTIMEZONE
TZID:Europe/Berlin
X-LIC-LOCATION:Europe/Berlin
BEGIN:DAYLIGHT
DTSTART:20260329T030000
TZOFFSETFROM:+0100
TZOFFSETTO:+0200
TZNAME:CEST
END:DAYLIGHT
END:VTIMEZONE
END:VCALENDAR