BEGIN:VCALENDAR
VERSION:2.0
PRODID:-//wp-events-plugin.com//5.99912//EN
TZID:Europe/Berlin
X-WR-TIMEZONE:Europe/Berlin
BEGIN:VEVENT
UID:0-704@bitz.albverein.eu
DTSTART;TZID=Europe/Berlin;VALUE=DATE:20260522
DTEND;TZID=Europe/Berlin;VALUE=DATE:20260526
DTSTAMP:20260111T092553Z
URL:https://bitz.albverein.eu/events/mehrtagesausfahrt-ins-saarland/
SUMMARY:Mehrtages- "Wander" Fahrt ins Saarland Pfingstfahrt
DESCRIPTION:\nGemeinsamer Jahresausflug der Ortsgruppen Bitz &amp\; Winterl
 ingen\n„Wandern im Saarland“\n22.–25. Mai 2026 (Pfingsten)\nMit sein
 er beeindruckenden Kulisse aus weitläufigen Wäldern\, Naturparks und ges
 chichtsträchtigen Städten ist das Saarland ein echtes Kleinod im Südwes
 ten Deutschlands. Geografisch zur Weinregion der Mosel gehörend\, blickt 
 das kleinste deutsche Flächenbundesland auf eine bewegte Geschichte zurü
 ck\, geprägt von Kohle und Stahl. Heute erinnern eindrucksvolle Industrie
 denkmäler wie die Völklinger Hütte (UNESCO-Weltkulturerbe) an diese Zei
 t.\nAber auch Städte wie Saarbrücken und Saarlouis sowie die Nähe zu Fr
 ankreich und Luxemburg verleihen der Region eine einzigartige kulturelle V
 ielfalt. Lassen Sie sich überraschen – das Saarland ist ein kleines Juw
 el im Herzen Europas!\n\n\n\n\nReiseprogramm\nTag 1 – Freitag\, 22. Mai 
 2026\nWeltkulturerbe Völklinger Hütte\nAbfahrt morgens gegen 7:30 Uhr. D
 ie Fahrt führt über Stuttgart und Karlsruhe durch den Pfälzer Wald ins 
 Saarland. Im Großraum Pforzheim legen wir eine Pause für ein zweites Fr
 ühstück im Bus ein.\nAnschließend erreichen wir Völklingen und besuche
 n die weltberühmte Völklinger Hütte. Als weltweit einzig vollständig e
 rhaltenes Eisenwerk aus der Blütezeit der Industrialisierung bietet diese
 s UNESCO-Weltkulturerbe faszinierende Einblicke in Vergangenheit\, Gegenwa
 rt und Zukunft.\nDanach Zimmerbezug im Hotel im Raum Saarlouis/Merzig und 
 gemeinsames Abendessen.\n\n\n\n\n\nTag 2 – Samstag\, 23. Mai 2026\nSaars
 chleife – Cloefpfad – Mettlach\nHeute wandern wir auf dem Cloefpfad\, 
 der spektakuläre Ausblicke auf die berühmte Saarschleife bietet. Der Weg
  führt durch das romantische Steinbachtal\, entlang der Saar und über Se
 rpentinen zurück hinauf zur Cloef.\nNach dem Mittagessen in einer urigen 
 Brauerei-Gaststätte besuchen wir am Nachmittag den bekannten Keramikherst
 eller Villeroy &amp\; Boch in Mettlach. Anschließend Rückfahrt ins Hotel
  und Abendessen.\n\n\n\n\n\nTag 3 – Pfingstsonntag\, 24. Mai 2026\nRund 
 um Saarlouisoder alternativ: Luxemburg / Schengen\nVariante 1: Wanderung b
 ei Saarlouis (Gisinger)Diese abwechslungsreiche Tour bietet herrliche Pano
 ramablicke auf Saargau\, Saartal und Lothringerland. Schroffe Täler\, Wie
 sen und Wälder wechseln sich mit kulturellen Höhepunkten ab.\n\n\n 	\nL
 änge: 11 km\n\n 	\nDauer: ca. 3\,5 Stunden\n\n 	\nHöhenmeter: 192 hm\n\n
 \nAm Nachmittag besuchen wir die historische Festungsstadt Saarlouis\, geg
 ründet 1680 von Ludwig XIV. Ein Bummel über den Großen Markt mit Mögli
 chkeit zu Kaffee und Kuchen rundet den Tag ab.\nVariante 2: Luxemburg &amp
 \; SchengenWanderung auf der Traumschleife rund um Schengen mit traumhafte
 n Ausblicken ins Moseltal nach Luxemburg\, Frankreich und Deutschland.\n\n
 \n 	\nLänge: 8\,4 km\n\n 	\nDauer: ca. 3\,5 Stunden\n\n 	\nHöhenmeter: 1
 68 hm\n\n\nAnschließend Besuch der Stadt Schengen\, bekannt durch das Sch
 engener Abkommen (1985). Rückfahrt ins Hotel und gemeinsames Abendessen.\
 n\n\n\n\n\nTag 4 – Pfingstmontag\, 25. Mai 2026\nSaarbrücken &amp\; Hei
 mreise\nNach dem Frühstück besuchen wir Saarbrücken\, wo uns ein Gäste
 führer zu einer 2-stündigen Stadtführung erwartet. Danach Rückreise in
  die Heimat.\n\n\n\n\n\nLeistungen &amp\; Organisation\nVeranstalter: Gert
 h-Touristik Bitz (Änderungen vorbehalten)\nIm Reisepreis enthalten:\n\n\n
  	\nBusfahrt im modernen Fernreisebus\n\n 	\nZweites Frühstück mit Kaffe
 e &amp\; Hefekranz\n\n 	\n3 Übernachtungen im ***S-Victor’s Residenz-Ho
 tel Saarlouis\n\n 	\nUnterbringung im Doppelzimmer (EZ gegen Aufpreis)\n\n
  	\n3× Frühstücksbuffet\n\n 	\n3× Abendessen (3-Gang-Menü oder Buffet
 )\n\n 	\nStadtführung Saarbrücken\n\n 	\nFührung Völklinger Hütte\n\n
  	\nBesuch Museum Villeroy &amp\; Boch\n\n 	\nWanderführer Samstag &amp\;
  Sonntag\n\n\n\n\n\nReisepreis\n\n 	\n444 € pro Person im Doppelzimmer\n
 \n 	\nEinzelzimmerzuschlag: 103\,50 €\n\n 	\nNichtmitglieder: + 50 €\n
 \n\nTrinkgelder und Reiserücktrittsversicherung sind enthalten.\n\n\n\n\n
 Hinweise &amp\; Anmeldung\n\n 	\nTeilnahme auf eigene Gefahr\, keine Haftu
 ng\n\n 	\nFür die Wanderungen am Samstag und Sonntag sind Trittsicherheit
  und gute Kondition erforderlich\n\n 	\nMindestteilnehmerzahl: 35 Personen
 \n\n 	\nZimmerkontingent: 15 DZ / 10 EZ (Vergabe nach Anmeldung)\n\n\nAnme
 ldeschluss: 28. Februar 2026Anzahlung: 150 € nach Bestätigung(Stornokos
 ten bei Absage nach Bestätigung)\n\nAnmeldung &amp\; Informationen:\nBodo
  Erath📞 07434 / 936531✉️ albverein-winterlingen@t-online.de
END:VEVENT
BEGIN:VTIMEZONE
TZID:Europe/Berlin
X-LIC-LOCATION:Europe/Berlin
BEGIN:DAYLIGHT
DTSTART:20260329T030000
TZOFFSETFROM:+0100
TZOFFSETTO:+0200
TZNAME:CEST
END:DAYLIGHT
END:VTIMEZONE
END:VCALENDAR