BEGIN:VCALENDAR
VERSION:2.0
PRODID:-//wp-events-plugin.com//5.99912//EN
TZID:Europe/Berlin
X-WR-TIMEZONE:Europe/Berlin
BEGIN:VEVENT
UID:0-701@bitz.albverein.eu
DTSTART;TZID=Europe/Berlin;VALUE=DATE:20261118
DTEND;TZID=Europe/Berlin;VALUE=DATE:20261119
DTSTAMP:20251105T215538Z
URL:https://bitz.albverein.eu/events/sen-besichtigung-baeckerei-sauter-har
 thausen/
SUMMARY:Sen: Besichtigung Bäckerei Sauter\, Harthausen
DESCRIPTION:Angela Kattanek
END:VEVENT
BEGIN:VTIMEZONE
TZID:Europe/Berlin
X-LIC-LOCATION:Europe/Berlin
BEGIN:STANDARD
DTSTART:20261025T020000
TZOFFSETFROM:+0200
TZOFFSETTO:+0100
TZNAME:CET
END:STANDARD
END:VTIMEZONE
END:VCALENDAR