BEGIN:VCALENDAR
VERSION:2.0
PRODID:-//wp-events-plugin.com//5.99912//EN
TZID:Europe/Berlin
X-WR-TIMEZONE:Europe/Berlin
BEGIN:VEVENT
UID:0-678@bitz.albverein.eu
DTSTART;TZID=Europe/Berlin;VALUE=DATE:20260617
DTEND;TZID=Europe/Berlin;VALUE=DATE:20260618
DTSTAMP:20251130T191721Z
URL:https://bitz.albverein.eu/events/sen-besichtigung-firma-korn-albstadt/
SUMMARY:Sen: Besichtigung Firma Korn Recycling Albstadt
DESCRIPTION:Horst Schweizer
END:VEVENT
BEGIN:VTIMEZONE
TZID:Europe/Berlin
X-LIC-LOCATION:Europe/Berlin
BEGIN:DAYLIGHT
DTSTART:20260329T030000
TZOFFSETFROM:+0100
TZOFFSETTO:+0200
TZNAME:CEST
END:DAYLIGHT
END:VTIMEZONE
END:VCALENDAR