BEGIN:VCALENDAR
VERSION:2.0
PRODID:-//wp-events-plugin.com//5.99912//EN
TZID:Europe/Berlin
X-WR-TIMEZONE:Europe/Berlin
BEGIN:VEVENT
UID:0-690@bitz.albverein.eu
DTSTART;TZID=Europe/Berlin;VALUE=DATE:20260916
DTEND;TZID=Europe/Berlin;VALUE=DATE:20260917
DTSTAMP:20251130T192057Z
URL:https://bitz.albverein.eu/events/sen-sulz-ruine-albeck-mammutbaeume/
SUMMARY:Sen.: Sulz\, Ruine Albeck\, Mammutbäume
DESCRIPTION:Rolf Wenzelberger
END:VEVENT
BEGIN:VTIMEZONE
TZID:Europe/Berlin
X-LIC-LOCATION:Europe/Berlin
BEGIN:DAYLIGHT
DTSTART:20260329T030000
TZOFFSETFROM:+0100
TZOFFSETTO:+0200
TZNAME:CEST
END:DAYLIGHT
END:VTIMEZONE
END:VCALENDAR