BEGIN:VCALENDAR
VERSION:2.0
PRODID:-//wp-events-plugin.com//5.99912//EN
TZID:Europe/Berlin
X-WR-TIMEZONE:Europe/Berlin
BEGIN:VEVENT
UID:0-682@bitz.albverein.eu
DTSTART;TZID=Europe/Berlin;VALUE=DATE:20260715
DTEND;TZID=Europe/Berlin;VALUE=DATE:20260716
DTSTAMP:20251130T191902Z
URL:https://bitz.albverein.eu/events/sen-zielfinger-seen-wanderung/
SUMMARY:Sen: Zielfinger-Seenweg
DESCRIPTION:Fam. Conzelmann
END:VEVENT
BEGIN:VTIMEZONE
TZID:Europe/Berlin
X-LIC-LOCATION:Europe/Berlin
BEGIN:DAYLIGHT
DTSTART:20260329T030000
TZOFFSETFROM:+0100
TZOFFSETTO:+0200
TZNAME:CEST
END:DAYLIGHT
END:VTIMEZONE
END:VCALENDAR