BEGIN:VCALENDAR
VERSION:2.0
PRODID:-//wp-events-plugin.com//5.99912//EN
TZID:Europe/Berlin
X-WR-TIMEZONE:Europe/Berlin
BEGIN:VEVENT
UID:0-692@bitz.albverein.eu
DTSTART;TZID=Europe/Berlin;VALUE=DATE:20260927
DTEND;TZID=Europe/Berlin;VALUE=DATE:20260928
DTSTAMP:20251205T170230Z
URL:https://bitz.albverein.eu/events/unterwegs-auf-dem-hohenwittlingenstei
 g/
SUMMARY:11. Schwäbischer Albvereinstag\, Canstatter Wasen
DESCRIPTION:\n11. SCHWÄBISCHER ALBVEREINSTAG AUF DEM CANNSTATTER WASEN\n\
 n\n\nAm 27. September 2026 in WELLER’S Klauss &amp\; Klauss Dinkelacker 
 Festzelt\n\nLIEBE WANDERFREUNDE AUS DER REGION\,\n\nder „Schwäbische A
 lbvereinstag“ auf dem Cannstatter Volksfest ist zu einer Tradition gewor
 den\, denn bereits zum 11. Mal richten wir diese Veranstaltung für Sie a
 us. Beste Musik\, leckere Speisen und herrlich-frisches Dinkelacker Volksf
 estbier werden am Sonntag\, den 27.09.2026 ab 11:00 Uhr wieder für Stimm
 ung in WELLER’S Klauss &amp\; Klauss Dinkelacker Festzelt sorgen.\n\nAn 
 diesem Tag stehen natürlich der Schwäbische Albverein und seine zahlre
 ichen Mitglieder im Mittelpunkt des Festes. Genießen Sie die ausgelassene
  Wasenstimmung und werden Sie erneut Teil dieser einmaligen Atmosphäre a
 uf dem schönsten Fest der Region – dem Cannstatter Volksfest.\n\nSiche
 rn Sie sich jetzt online die besten Plätze im Zelt und profitieren Sie v
 on folgendem Angebot:\n\nFür 30\,00 € pro Person erhalten Sie Verzehrg
 utscheine im Wert von 45\,00 €!\n\nUnsere Verzehrgutscheine können Sie
  gegen frisches Dinkelacker Volksfestbier oder alternative Getränke und 
 köstliche Speisen einlösen. Melden Sie sich am besten noch heute mit I
 hrer Familie und Ihren Freunden für dieses unvergessliche Erlebnis an.\n
 \nFür den 11. Schwäbischen Albvereinstag können Sie sich Ihre Plät
 ze ganz einfach über unser neues Reservierungsportal sichern\, welches S
 ie über folgenden Link oder den nebenstehenden QR-Code erreichen\, https
 ://reservierung.albverein.weller-do.de/\n\nSollte es zu Fragen/Unklarheite
 n mit unserem neuen System kommen\, stehen wir Ihnen gerne jederzeit zur V
 erfügung: info@klauss-und-klauss.de\n\nWir freuen uns schon jetzt auf Si
 e und wünschen Ihnen bis dahin von Herzen eine gute Zeit.\n\nMit freundl
 ichen Grüßen\n\nIhre Festwirtfamilien Klauss &amp\; Weller\n\n\n\n\n\n&
 nbsp\;\n\n
END:VEVENT
BEGIN:VTIMEZONE
TZID:Europe/Berlin
X-LIC-LOCATION:Europe/Berlin
BEGIN:DAYLIGHT
DTSTART:20260329T030000
TZOFFSETFROM:+0100
TZOFFSETTO:+0200
TZNAME:CEST
END:DAYLIGHT
END:VTIMEZONE
END:VCALENDAR