BEGIN:VCALENDAR
VERSION:2.0
PRODID:-//wp-events-plugin.com//5.99912//EN
TZID:Europe/Berlin
X-WR-TIMEZONE:Europe/Berlin
BEGIN:VEVENT
UID:0-720@bitz.albverein.eu
DTSTART;TZID=Europe/Berlin:20260424T190000
DTEND;TZID=Europe/Berlin:20260424T234500
DTSTAMP:20260413T220922Z
URL:https://bitz.albverein.eu/events/vom-neckar-bis-ans-watt/
SUMMARY:"Vom Neckar bis ans Watt"
DESCRIPTION:Unter dem Motto „Vom Neckar bis ans Watt“ laden wir herzlic
 h in den Albvereinsschuppen ein.\nLasst den Alltag hinter euch und genieß
 t ein paar schöne Stunden in geselliger Runde mit netten Menschen und anr
 egenden Gesprächen.\nFür das leibliche Wohl ist selbstverständlich best
 ens gesorgt.\nEure Albvereinler\n
LOCATION:Albvereins Schuppen\, Winterlinger Str. \, Bitz\, Deutschland
GEO:48.24099467794087;9.091652683605957
X-APPLE-STRUCTURED-LOCATION;VALUE=URI;X-ADDRESS=Winterlinger Str. \, Bitz\,
  Deutschland;X-APPLE-RADIUS=100;X-TITLE=Albvereins Schuppen:geo:48.2409946
 7794087,9.091652683605957
END:VEVENT
BEGIN:VTIMEZONE
TZID:Europe/Berlin
X-LIC-LOCATION:Europe/Berlin
BEGIN:DAYLIGHT
DTSTART:20260329T030000
TZOFFSETFROM:+0100
TZOFFSETTO:+0200
TZNAME:CEST
END:DAYLIGHT
END:VTIMEZONE
END:VCALENDAR