BEGIN:VCALENDAR
VERSION:2.0
PRODID:-//wp-events-plugin.com//5.99912//EN
TZID:Europe/Berlin
X-WR-TIMEZONE:Europe/Berlin
BEGIN:VEVENT
UID:0-669@bitz.albverein.eu
DTSTART;TZID=Europe/Berlin;VALUE=DATE:20260426
DTEND;TZID=Europe/Berlin;VALUE=DATE:20260427
DTSTAMP:20260413T221454Z
URL:https://bitz.albverein.eu/events/wanderung-auf-dem-alb-donau-eiszeitpf
 ad/
SUMMARY:Wanderung auf dem Alb Donau Eiszeitpfad \, Blaubeurer Felsenstieg
DESCRIPTION:Treffpunkt: Rathaus Bitz\, 8:00 UhrReine Gehzeit: ca. 3 Stunden
 Distanz: 11 kmHöhenmeter (Aufstieg): ca. 390 m\nMit PKW und Fahrgemeinsch
 aften fahren wir nach Blaubeuren und parken am Bahnhof.Die einfache Fahrst
 recke beträgt ca. 75 km\, dafür benötigen wir etwa 1 bis 1\,25 Stunden.
 \nVom Bahnhof geht es gleich bergauf\, vorbei an der Brillenhöhle\, über
  einen schönen Wanderweg zur Felsformation „Küssende Sau“.\n\nDurch 
 diese hindurch wandern wir weiter bergauf und erreichen die Reste der Ruin
 e Günzelburg.Nach einer kurzen Strecke auf den Höhen von Blaubeuren stei
 gen wir hinab in die Altstadt und zum Blautopf.\nNach einer kurzen Rast am
  Blautopf geht es wieder hinauf auf die Höhen zum Aussichtspunkt Blaufels
 .Von dort bleiben wir auf der Höhe\, wandern vorbei am Knoblauchfelsen zu
  unserem nächsten Ziel\, der gut erhaltenen Burgruine Rusenschloss.\nNach
  einem kurzen Aufenthalt mit Ausblick auf Blaubeuren und unsere gesamte Ta
 gesetappe steigen wir hinab ans Ufer der Blau und wandern zurück zum Ausg
 angspunkt am Bahnhof.\nFür die Mittagspause unterwegs bitte ein Rucksackv
 esper mitbringen.Für Auf- und Abstiege werden Wanderstöcke empfohlen.\nA
 uch Nichtmitglieder sind herzlich willkommen!\nFür eine gute Planung und 
 Durchführung der Tour bitten wir um Anmeldung bis Sonntag\, 19. April\,en
 tweder per Mail an ccbitz@t-online.de oder telefonisch unter 07431 / 81078
 .\nEure Wanderführer:Beate und Claus Conzelmann
LOCATION:Rathaus Bitz\, Kirchstrasse\, Bitz\, 72475\, Deutschland
GEO:48.24305443244533;9.091229226983614
X-APPLE-STRUCTURED-LOCATION;VALUE=URI;X-ADDRESS=Kirchstrasse\, Bitz\, 72475
 \, Deutschland;X-APPLE-RADIUS=100;X-TITLE=Rathaus Bitz:geo:48.243054432445
 33,9.091229226983614
END:VEVENT
BEGIN:VTIMEZONE
TZID:Europe/Berlin
X-LIC-LOCATION:Europe/Berlin
BEGIN:DAYLIGHT
DTSTART:20260329T030000
TZOFFSETFROM:+0100
TZOFFSETTO:+0200
TZNAME:CEST
END:DAYLIGHT
END:VTIMEZONE
END:VCALENDAR