BEGIN:VCALENDAR
VERSION:2.0
PRODID:-//wp-events-plugin.com//5.99912//EN
TZID:Europe/Berlin
X-WR-TIMEZONE:Europe/Berlin
BEGIN:VEVENT
UID:0-676@bitz.albverein.eu
DTSTART;TZID=Europe/Berlin;VALUE=DATE:20260529
DTEND;TZID=Europe/Berlin;VALUE=DATE:20260601
DTSTAMP:20260407T054250Z
URL:https://bitz.albverein.eu/events/wanderung-auf-dem-albsteig-hw-1/
SUMMARY:Die nächsten 3 Etappenwanderungen am Albsteig (HW1 Nordrandlinie)
DESCRIPTION:\n\nAnmeldeschluss 19. April!\n\nAm Freitag (11 km): \n\nNach 
 der Anreise mit DB ab Ebingen starten wir die erste Wanderung am Bahnhof v
 on Unterkochen\, wo die letztjährige Wanderung endete. Aufwärts auf dem 
 HW1 erreicht man den Aussichtsturm auf dem Aalbäumle (681m ü.M.) mit wei
 tem Blick ins Albvorland. Vorbei an einem Hungerbrunnen im Wolfertal geht 
 es zum Volkmartsberg (743m ü.M.). Abwärts verlassen wir bald den HW1 in 
 Richtung Oberkochen\, wo wir im Hotel Pflug übernachten.\n\nAm Samstag (1
 7 Km): \n\nVorbei an den Werken der Firma Carl Zeiss in Oberkochen kommen
  wir zur Quelle des Schwarzen Kochers. Ab hier beginnt der Aufstieg im Wal
 d und dann weiter auf dem HW1. Nach etwa 9 Km ist Tauchenweiler erreicht\,
  wo uns eine Ausflugsgaststätte mit Biergarten erwartet. Unser nächstes 
 Ziel ist das Wental mit seinen Felsengärten. Dazu verlassen wir wieder de
 n HW1 zur Übernachtung im Hotel Wental.\n\nAm Sonntag (16\,5 Km): \n\nVo
 rbei am Felsenmeer und an Bartolomä kommen wir vor dem Ort Lauterburg wie
 der auf den HW1 und zum Schloss Lauterburg\, heute teilweise Ruine. Durch 
 ein Waldgebiet erreichen wir den Rosenstein hoch über Heubach. Hier haben
  wir neben den aussichtsreichen Felsen auch imposante Höhlen am Wanderweg
 \, wie die „Große Scheuer“\, das „Haus“\, die „Durchgangshöhle
 “ und natürlich auch die Ruine Rosenstein mit Blick auf Heubach\, das w
 ir nun steil abwärts erreichen.\nMit dem Bus geht es dann nach Schwäbisc
 h Gmünd zum Bahnhof und mit DB über Cannstatt und Tübingen zurück nach
  Ebingen.\n\nDie Preise für beide Übernachtungen mit Frühstück betrage
 n pro Person im DZ 130 €\, im EZ 180 €.\nDer Anmeldeschluss (goettle@g
 mx.de) ist am 19. April 2026. Die Teilnehmerzahl ist auf 15 begrenzt.\nFü
 hrung: Roland Göttle 07431/8539
END:VEVENT
BEGIN:VTIMEZONE
TZID:Europe/Berlin
X-LIC-LOCATION:Europe/Berlin
BEGIN:DAYLIGHT
DTSTART:20260329T030000
TZOFFSETFROM:+0100
TZOFFSETTO:+0200
TZNAME:CEST
END:DAYLIGHT
END:VTIMEZONE
END:VCALENDAR